BEGIN:VCALENDAR
VERSION:2.0
PRODID:-//eventon.com NONSGML v1.0//EN
BEGIN:VEVENT
UID:69e7362521bf5
DTSTAMP:20260421T013237
DTSTART:20160517T070000Z
DTEND:20160517T170000Z
TZID:UTC
LOCATION:Meydenbauer Center 11100 NE 6th Street\,  Bellevue\,  Washington 98004
SUMMARY:Washington State Nonprofit Conference
DESCRIPTION: Washington State Nonprofit Conference\nhttps://www.501ctrust.org/events/washington-state-nonprofit-conference/
URL:https://www.501ctrust.org/events/washington-state-nonprofit-conference/
END:VEVENT
END:VCALENDAR