BEGIN:VCALENDAR
VERSION:2.0
PRODID:-//eventon.com NONSGML v1.0//EN
BEGIN:VEVENT
UID:69e88f667f5c8
DTSTAMP:20260422T020542
DTSTART:20161026T080000Z
DTEND:20161026T090000Z
TZID:UTC
LOCATION:
SUMMARY:ADA -Basic Requirements (1.00 units)*
DESCRIPTION: This event is for participating organizations only. This introductory webinar about the Americans with Disabilities Act (ADA) is designed to help increase your basic knowledge and understanding of what your rights and responsibilities are as an employer. Register any time before the event.\nhttps://www.501ctrust.org/events/ada-basic-requirements-1-00-units/
URL:https://www.501ctrust.org/events/ada-basic-requirements-1-00-units/
END:VEVENT
END:VCALENDAR