BEGIN:VCALENDAR
VERSION:2.0
PRODID:-//eventon.com NONSGML v1.0//EN
BEGIN:VEVENT
UID:69e8a91b0ac45
DTSTAMP:20260422T035523
DTSTART:20170426T120000Z
DTEND:20170427T170000Z
TZID:UTC
LOCATION:Hilton La Jolla Torrey Pines 10950 N Torrey Pines Rd.\,  San Diego\,  CA 92037
SUMMARY:Feeding America Annual Conference
DESCRIPTION: Feeding America Annual Conference\nhttps://www.501ctrust.org/events/feeding-america-annual-conference/
URL:https://www.501ctrust.org/events/feeding-america-annual-conference/
END:VEVENT
END:VCALENDAR