BEGIN:VCALENDAR
VERSION:2.0
PRODID:-//eventon.com NONSGML v1.0//EN
BEGIN:VEVENT
UID:69e566c61c4a6
DTSTAMP:20260419T163534
DTSTART:20171212T110000Z
DTEND:20171212T120000Z
TZID:UTC
LOCATION:
SUMMARY:Employee Handbooks (1.00 HRCI units and 1.00 SHRM PDC)**
DESCRIPTION: This event is for participating organizations only. Crafting an employee handbook won’t ensure compliance\,  however\,  a well written one will help guide all employees regarding the organization’s policies\,  procedures and values. Join us in this high-level overview on important to include policies\,  procedures\,  disclaimers and some practical tips. Register any[..]\nhttps://www.501ctrust.org/events/employee-handbooks-1-00-hrci-units-and-1-00-shrm-pdc/
URL:https://www.501ctrust.org/events/employee-handbooks-1-00-hrci-units-and-1-00-shrm-pdc/
END:VEVENT
END:VCALENDAR