BEGIN:VCALENDAR
VERSION:2.0
PRODID:-//eventon.com NONSGML v1.0//EN
BEGIN:VEVENT
UID:69eb440a6d5f7
DTSTAMP:20260424T032058
DTSTART:20180411T090000Z
DTEND:20180411T100000Z
TZID:UTC
LOCATION:
SUMMARY:ADA - Basic Requirements
DESCRIPTION: This introductory webinar about the Americans with Disabilities Act (ADA) is designed to help increase your basic knowledge and understanding of what your rights and responsibilities are as an employer. This webinar is eligible for 1.00 HRCI credits and 1.0 SHRM credit. This is a members-only event and is password[..]\nhttps://www.501ctrust.org/events/ada-basic-requirements-2/
URL:https://www.501ctrust.org/events/ada-basic-requirements-2/
END:VEVENT
END:VCALENDAR